BEGIN:VCALENDAR
PRODID:-//www.arnbrookprimary.net//EN
VERSION:2.0
METHOD:PUBLISH
BEGIN:VEVENT
DTSTART;TZID=Europe/London:20190619T090000
DTEND;TZID=Europe/London:20190619T120000
URL:https://www.arnbrookprimary.net/our-school/calendar/key-stage-1-sports-day/
SUMMARY:Key Stage 1 Sports Day
END:VEVENT
END:VCALENDAR